BEGIN:VCALENDAR
PRODID:-//event//iCal4j 1.0//EN
CALSCALE:GREGORIAN
BEGIN:VEVENT
DTSTAMP:20260425T151726Z
DTSTART:20231003T150000Z
DTEND:20231003T200000Z
SUMMARY:long-term-care-council
LOCATION:
END:VEVENT
END:VCALENDAR
